BEGIN:VCALENDAR
VERSION:2.0
PRODID:-//Heilpraktiker werden | Ausbildung zum Heilpraktiker - ECPv6.6.4.2//NONSGML v1.0//EN
CALSCALE:GREGORIAN
METHOD:PUBLISH
X-ORIGINAL-URL:https://samuel-hahnemann-schule.de
X-WR-CALDESC:Veranstaltungen für Heilpraktiker werden | Ausbildung zum Heilpraktiker
REFRESH-INTERVAL;VALUE=DURATION:PT1H
X-Robots-Tag:noindex
X-PUBLISHED-TTL:PT1H
BEGIN:VTIMEZONE
TZID:Europe/Berlin
BEGIN:DAYLIGHT
TZOFFSETFROM:+0100
TZOFFSETTO:+0200
TZNAME:CEST
DTSTART:20260329T010000
END:DAYLIGHT
BEGIN:STANDARD
TZOFFSETFROM:+0200
TZOFFSETTO:+0100
TZNAME:CET
DTSTART:20261025T010000
END:STANDARD
END:VTIMEZONE
BEGIN:VEVENT
DTSTART;VALUE=DATE:20260207
DTEND;VALUE=DATE:20260209
DTSTAMP:20260426T052246
CREATED:20200114T143043Z
LAST-MODIFIED:20251105T133310Z
UID:12393-1770422400-1770595199@samuel-hahnemann-schule.de
SUMMARY:Injektionstechniken und Blutentnahme
DESCRIPTION:Die diagnostisch bezweckte Blutentnahme\, der traditionelle Aderlass und das Injizieren erlaubter Präparate und nicht verschreibungspflichtiger Medikamente gehören zum Einsatzbereich von Heilpraktikern.\nAn einem Wochenende lernst du die Indikationen und Kontraindikationen in der Naturheilpraxis\, wichtige Vorbereitungen\, den Einsatz intramuskulärer\, intrakutaner und subkutaner Injektionstechniken und die intravenöse Blutentnahme. Wir besprechen juristische Aspekte\, die ordnungsgemäße Abfallbeseitigung\, Praxisnotfälle durch Injektionen und klären über Virusinfektionen unter dem Gesichtspunkt der Verletzungs- und Übertragungsgefahr auf. Seminar für Heilpraktiker*innen und Heilpraktiker-Anwärter*innen \nDozent:\nDenis Dragendorf\, Heilpraktiker \nTermine (jeweils 08.00-16.00 Uhr):\n07.-08.02.2026 \nAnmeldung & Kontakt:\nSchulbüro: (030) 323 30 50\nE-Mail: praxis-ak@t-online.de
URL:https://samuel-hahnemann-schule.de/termin/injektionstechniken-und-blutentnahme/
LOCATION:Samuel-Hahnemann-Schule\, Mohriner Allee 88\, Berlin\, 12347
CATEGORIES:Berlin,Fachausbildungen
ATTACH;FMTTYPE=image/png:https://samuel-hahnemann-schule.de/wp-content/uploads/2020/01/Injektionstechniken.png
END:VEVENT
BEGIN:VEVENT
DTSTART;VALUE=DATE:20260207
DTEND;VALUE=DATE:20260209
DTSTAMP:20260426T052246
CREATED:20200114T143043Z
LAST-MODIFIED:20260114T191845Z
UID:12668-1770422400-1770595199@samuel-hahnemann-schule.de
SUMMARY:Atme Dich gesund!
DESCRIPTION:Mit der individuellen Atmung zum physischen und psychischen Wohlgefühl\nDen Atem haben wir immer dabei. Und was wir immer dabei haben\, fällt leicht ins Vergessen. In unserem Kurs erlebst Du den Atem wieder bewusst und lernst\, ihn für Dich als Quelle von Gesundsein und Wohlgefühl einzusetzen.Du erfährst Dich in Deinem individuellen Atemtyp als Einatmer oder Ausatmer. Du bekommst daran individuell angepasst gesundheitsfördernde Bewegungen. Du lernst verschiedene Atemtechniken\, Übungen für die Atemorgane\, bewusstseinslenkende Übungen aus dem Hatha-Yoga. Mit allem zusammen triggern wir die Selbstheilungskräfte des Körpers und nehmen zu allen Organen über die Atmung hinaus Kontakt auf. \nHinweis: Bitte mitbringen\, bequeme Kleidung und warme Socken \nDozentin:\nBeate Achtner\, Heilpraktikerin\, Chorleiterin und Gesangspädagogin\, www.najasana.de \nTermine:\n7. und 8.2.2026 – Sa 10 – 17 Uhr / So 10 – 16  Uhr\n21.3.2026 Sa und 18.4.2026 Sa jeweils 10 – 17 Uhr \nAnmeldung & Kontakt:\nSamuel-Hahnemann-Schule\nMohriner Allee 88\n12347 Berlin\nTel. 030-3233050\nE-Mail: bernhard.kraemer@heilpraktikerverband-bb.de \nKosten/Überweisung: 360.- €\, erm. 290 € (Schüler SHS\, Mitglieder FDH/ALG)\nArthur-Lulze-Gesellschaft e.V.\nIBAN: DE 17 1009 0000 5131 8340 06\nBerliner Volksbank\nÜberweisungszweck: Atme Dich gesund
URL:https://samuel-hahnemann-schule.de/termin/atme-dich-gesund/
LOCATION:Samuel-Hahnemann-Schule\, Mohriner Allee 88\, Berlin\, 12347
CATEGORIES:Berlin,Workshop
END:VEVENT
END:VCALENDAR