BEGIN:VCALENDAR
VERSION:2.0
PRODID:-//Heilpraktiker werden | Ausbildung zum Heilpraktiker - ECPv6.6.4.2//NONSGML v1.0//EN
CALSCALE:GREGORIAN
METHOD:PUBLISH
X-WR-CALNAME:Heilpraktiker werden | Ausbildung zum Heilpraktiker
X-ORIGINAL-URL:https://samuel-hahnemann-schule.de
X-WR-CALDESC:Veranstaltungen für Heilpraktiker werden | Ausbildung zum Heilpraktiker
REFRESH-INTERVAL;VALUE=DURATION:PT1H
X-Robots-Tag:noindex
X-PUBLISHED-TTL:PT1H
BEGIN:VTIMEZONE
TZID:Europe/Berlin
BEGIN:DAYLIGHT
TZOFFSETFROM:+0100
TZOFFSETTO:+0200
TZNAME:CEST
DTSTART:20260329T010000
END:DAYLIGHT
BEGIN:STANDARD
TZOFFSETFROM:+0200
TZOFFSETTO:+0100
TZNAME:CET
DTSTART:20261025T010000
END:STANDARD
END:VTIMEZONE
BEGIN:VEVENT
DTSTART;VALUE=DATE:20260409
DTEND;VALUE=DATE:20260501
DTSTAMP:20260420T112308
CREATED:20200114T143043Z
LAST-MODIFIED:20260305T130033Z
UID:12822-1775692800-1777593599@samuel-hahnemann-schule.de
SUMMARY:Prüfungsvorbereitung mündlich
DESCRIPTION:Prüfungssimulation und Coaching mit Katja Gräbner\nZur Vorbereitung auf die mündliche Heilpraktiker-Prüfung bietet Katja Gräbner ein Training in Form von Prüfungssimulationen und individuellem Coaching an. Die Prüfungssimulationen orientieren sich an den Überprüfungen in Berlin.\nDer Kurs wird im Hybridmodus (in Präsenz und parallel via Zoom-Meeting) durchgeführt. Zum Termin für deine persönliche Simulation sei bitte vor Ort in der Schule! \nTermine Frühjahr 2026\nDonnerstag 19.03.26 | 13.30 – 18.00\nDienstag 24.03.26 | 13.30 – 18.00\nDonnerstag 26.03.26 | 13.30 – 18.00\nDienstag 31.03.26 | 13.30 – 18.00\nDonnerstag 09.04.26 | 13.30 – 18.00\nDienstag 14.04.26 | 08.30 – 13.00\nDonnerstag 16.04.26 | 13.30 – 18.00\nDienstag 21.04.26 | 08.30 – 13.00\nDonnerstag 23.04.26 | 13.30 – 18.00\nDienstag 28.04.26 | 13.30 – 18.00\nDonnerstag 30.04.26 | 13.30 – 18.00\nDienstag 05.05.26 | 08.30 – 13.00\nDonnerstag 07.05.26 | 13.30 – 18.00\nDienstag 12.05.26 | 08.30 – 13.00 \nAnmeldung & Infos zur Prüfungsvorbereitung:\nKatja Gräbner\, Heilpraktikerin\nMobil: 0177-731 97 47\nE-Mail: katja.graebner@web.de \nDie Kosten der Teilnahme betragen:\nregulär 300\,00 € / SHS-Tagesschüler*Innen frei \n 
URL:https://samuel-hahnemann-schule.de/termin/pruefungsvorbereitung-muendlich-2/
LOCATION:Samuel-Hahnemann-Schule\, Mohriner Allee 88\, Berlin\, 12347\, Germany
CATEGORIES:Fachausbildungen,Heilpraktikerausbildung,Prüfungsvorbereitung
ATTACH;FMTTYPE=image/jpeg:https://samuel-hahnemann-schule.de/wp-content/uploads/2020/01/k_graebner_pruefvorb.jpg
END:VEVENT
BEGIN:VEVENT
DTSTART;VALUE=DATE:20260418
DTEND;VALUE=DATE:20260420
DTSTAMP:20260420T112308
CREATED:20211129T111914Z
LAST-MODIFIED:20260216T132440Z
UID:12735-1776470400-1776643199@samuel-hahnemann-schule.de
SUMMARY:Heilerlaubnis Psychotherapie
DESCRIPTION:Vermittelt werden fundierte Grundlagen der Psychiatrie: Allgemeine Psychopathologie\, Neurosen\, Persönlichkeitsstörungen\, affektive Psychosen\, schizophrene Psychosen\, sonstige wahnhafte/psychotische Störungen\, Psychosomatik\, Sucht\, Suizidalität\, körperlich begründbare psychische Störungen\, Neurologische Erkrankungen\, Kinder- und Jugendpsychiatrie\, Sexualstörungen\, Psychotherapieverfahren\, Pharmakologie\, Gesetzeskunde. Außerdem üben wir die differentialdiagnostische Abgrenzung körperlicher und seelischer Ursachen psychischer Krankheitsbilder. Fragen wie: „Wen darf ich wie behandeln und wen verweise ich wie und wann wohin?“ runden die Ausbildung ab. \nDozent*innen:\nHp Dagmar Lahn und Hp Claudia Kraemer-Emke \nTermine 2026-2027 (immer 09.00 bis 17.00 Uhr)\n18./19.4.2026 | 9./10.5.2026 | 13./14.6.2026 | 11./12.7.2026 | 15./16.8.2026 | 12./13.9.2026 | 17./18.10.2026 | 14./15.11.2026 | 5./6.12.2026 | 16./17.1.2027 | 20./21.2.2027 \nRuf doch direkt an und mach einen Termin für die Anmeldung! Telefon: (030) 323 30 50\nPer E-Mail kannst Du uns über unsere Kontaktseite erreichen.
URL:https://samuel-hahnemann-schule.de/termin/heilerlaubnis-psychotherapie/
LOCATION:Samuel-Hahnemann-Schule\, Mohriner Allee 88\, Berlin\, 12347
CATEGORIES:Heilpraktikerausbildung,Psychotherapie
ATTACH;FMTTYPE=image/png:https://samuel-hahnemann-schule.de/wp-content/uploads/2020/10/psychotherapie.png
END:VEVENT
BEGIN:VEVENT
DTSTART;TZID=Europe/Berlin:20260418T100000
DTEND;TZID=Europe/Berlin:20260418T170000
DTSTAMP:20260420T112308
CREATED:20200114T143043Z
LAST-MODIFIED:20260114T192938Z
UID:12673-1776506400-1776531600@samuel-hahnemann-schule.de
SUMMARY:Atme Dich gesund!
DESCRIPTION:Mit der individuellen Atmung zum physischen und psychischen Wohlgefühl\nDen Atem haben wir immer dabei. Und was wir immer dabei haben\, fällt leicht ins Vergessen. In unserem Kurs erlebst Du den Atem wieder bewusst und lernst\, ihn für Dich als Quelle von Gesundsein und Wohlgefühl einzusetzen.Du erfährst Dich in Deinem individuellen Atemtyp als Einatmer oder Ausatmer. Du bekommst daran individuell angepasst gesundheitsfördernde Bewegungen. Du lernst verschiedene Atemtechniken\, Übungen für die Atemorgane\, bewusstseinslenkende Übungen aus dem Hatha-Yoga. Mit allem zusammen triggern wir die Selbstheilungskräfte des Körpers und nehmen zu allen Organen über die Atmung hinaus Kontakt auf. \nHinweis: Bitte mitbringen\, bequeme Kleidung und warme Socken \nDozentin:\nBeate Achtner\, Heilpraktikerin\, Chorleiterin und Gesangspädagogin\, www.najasana.de \nTermine:\n7. und 8.2.2026 – Sa 10 – 17 Uhr / So 10 – 16  Uhr\n21.3.2026 Sa und 18.4.2026 Sa jeweils 10 – 17 Uhr \nAnmeldung & Kontakt:\nSamuel-Hahnemann-Schule\nMohriner Allee 88\n12347 Berlin\nTel. 030-3233050\nE-Mail: bernhard.kraemer@heilpraktikerverband-bb.de \nKosten/Überweisung: 360.- €\, erm. 290 € (Schüler SHS\, Mitglieder FDH/ALG)\nArthur-Lulze-Gesellschaft e.V.\nIBAN: DE 17 1009 0000 5131 8340 06\nBerliner Volksbank\nÜberweisungszweck: Atme Dich gesund
URL:https://samuel-hahnemann-schule.de/termin/atme-dich-gesund-3/
LOCATION:Samuel-Hahnemann-Schule\, Mohriner Allee 88\, Berlin\, 12347
CATEGORIES:Berlin,Workshop
END:VEVENT
END:VCALENDAR